BEGIN:VCALENDAR
VERSION:2.0
PRODID:-//Talks.cam//talks.cam.ac.uk//
X-WR-CALNAME:Talks.cam
BEGIN:VEVENT
SUMMARY:Does gender matter to sustainable development? - Professor Clare G
 riffiths\, University of Chester
DTSTART:20120430T120000Z
DTEND:20120430T130000Z
UID:TALK35747@talks.cam.ac.uk
CONTACT:Dr Rosie Robison
DESCRIPTION:Abstract not available
LOCATION:Helmore 201 (Anglia Ruskin University\, Cambridge Campus)
END:VEVENT
END:VCALENDAR
