BEGIN:VCALENDAR
VERSION:2.0
PRODID:-//Talks.cam//talks.cam.ac.uk//
X-WR-CALNAME:Talks.cam
BEGIN:VEVENT
SUMMARY:Exploring limits to adaptation in response to ecological change - 
 Jon Bridle\, University of Bristol
DTSTART:20120501T150000Z
DTEND:20120501T160000Z
UID:TALK35796@talks.cam.ac.uk
CONTACT:Chris Jiggins
DESCRIPTION:Abstract not available
LOCATION:Part II Lecture Theatre\, Department of Zoology
END:VEVENT
END:VCALENDAR
