BEGIN:VCALENDAR
VERSION:2.0
PRODID:-//Talks.cam//talks.cam.ac.uk//
X-WR-CALNAME:Talks.cam
BEGIN:VEVENT
SUMMARY:To be confirmed - Stefan Meskers\, Eindhoven University of Technol
 ogy\, Netherlands
DTSTART:20120313T143000Z
DTEND:20120313T153000Z
UID:TALK35994@talks.cam.ac.uk
CONTACT:Jenny Clark
DESCRIPTION:Abstract not available
LOCATION:Kapitza Building Seminar Room\, Cavendish Laboratory\, Department
  of Physics
END:VEVENT
END:VCALENDAR
