BEGIN:VCALENDAR
VERSION:2.0
PRODID:-//Talks.cam//talks.cam.ac.uk//
X-WR-CALNAME:Talks.cam
BEGIN:VEVENT
SUMMARY:Bright Club - Breaking Boundaries - Robin Ince
DTSTART:20120309T193000Z
DTEND:20120309T230000Z
UID:TALK36335@talks.cam.ac.uk
CONTACT:Andrew N Holding
DESCRIPTION:Join academics from Cambridge and beyond for a lighthearted lo
 ok at their research. It's a comedy night with a difference and has some s
 pecial guests on the bill not to be missed.\n\nhttp://www.wegottickets.com
 /event/153000
LOCATION:The Portland Arms
END:VEVENT
END:VCALENDAR
