BEGIN:VCALENDAR
VERSION:2.0
PRODID:-//Talks.cam//talks.cam.ac.uk//
X-WR-CALNAME:Talks.cam
BEGIN:VEVENT
SUMMARY:Reading: Goodall (draft paper) ‘Peak Stuff’ Did the UK reach a
  maximum use of material resources in the early part of the last decade? -
  Chris Goodall
DTSTART:20111115T130000Z
DTEND:20111115T140000Z
UID:TALK36405@talks.cam.ac.uk
CONTACT:kathryn humphries
DESCRIPTION:Abstract not available
LOCATION:Seminar Room\, Department of Geography
END:VEVENT
END:VCALENDAR
