BEGIN:VCALENDAR
VERSION:2.0
PRODID:-//Talks.cam//talks.cam.ac.uk//
X-WR-CALNAME:Talks.cam
BEGIN:VEVENT
SUMMARY:The Problem of a Heartless Sibling - Dr Caoimhe Lynch (for Profess
 or Gordon Smith)
DTSTART:20120328T123000Z
DTEND:20120328T130000Z
UID:TALK36459@talks.cam.ac.uk
CONTACT:Faith Rawley
DESCRIPTION:Obs & Gynae Presentation\nChair:  Dr Trevor Baglin
LOCATION:William Harvey Lecture Theatre
END:VEVENT
END:VCALENDAR
