BEGIN:VCALENDAR
VERSION:2.0
PRODID:-//Talks.cam//talks.cam.ac.uk//
X-WR-CALNAME:Talks.cam
BEGIN:VEVENT
SUMMARY:A new concept for high strain rate testing of materials based on t
 he use of inertial forces - Fabrice Pierron\, ParisTech\, Chalons-en-Champ
 agne\, France
DTSTART:20120524T150000Z
DTEND:20120524T160000Z
UID:TALK36565@talks.cam.ac.uk
CONTACT:Stephen Walley
DESCRIPTION:Transient inertial effects are usually considered detrimental 
 in high strain rate testing procedures and design efforts have been focusi
 ng on limiting their influence on the test specimen response. This present
 ation will show how they can be used to an advantage as an embedded volume
  load cell when full-field deformation measurements are available. Inverse
  identification can then be performed\, relieving many constraints in the 
 design of the tests. This has the potential for an in-depth revisit of hig
 h strain rate testing procedures in the future.
LOCATION:Mott Seminar Room\, Cavendish Laboratory\, Department of Physics
END:VEVENT
END:VCALENDAR
