BEGIN:VCALENDAR
VERSION:2.0
PRODID:-//Talks.cam//talks.cam.ac.uk//
X-WR-CALNAME:Talks.cam
BEGIN:VEVENT
SUMMARY:Dependent Type Theory - Proving Theorems by Writing Programs - Wil
 l Sonnex (Computer Lab)
DTSTART:20120304T140000Z
DTEND:20120304T143000Z
UID:TALK36732@talks.cam.ac.uk
CONTACT:Mary Fortune
DESCRIPTION:A quick tutorial about writing programs in Agda\, a language w
 ith dependently typed values. In Agda we can write a program\, and then a 
 mathematical proof that the program behaves correctly\, in exactly the sam
 e language\, through the magic of dependent types.
LOCATION:Winstanley Lecture Theatre\, Trinity College
END:VEVENT
END:VCALENDAR
