BEGIN:VCALENDAR
VERSION:2.0
PRODID:-//Talks.cam//talks.cam.ac.uk//
X-WR-CALNAME:Talks.cam
BEGIN:VEVENT
SUMMARY:The present perfect puzzle revisited - Prof. Wolfgang Klein (Max P
 lanck Institute for Psycholinguistics\, Nijmegen)
DTSTART:20120522T150000Z
DTEND:20120522T170000Z
UID:TALK36822@talks.cam.ac.uk
CONTACT:Theodora Alexopoulou
DESCRIPTION:Abstract not available
LOCATION:GR-06/07\, English Faculty Building
END:VEVENT
END:VCALENDAR
