BEGIN:VCALENDAR
VERSION:2.0
PRODID:-//Talks.cam//talks.cam.ac.uk//
X-WR-CALNAME:Talks.cam
BEGIN:VEVENT
SUMMARY:Taxonomy of models for storage and time-shifting of demand - Zacha
 ry\, S (Heriot-Watt University)
DTSTART:20120312T140000Z
DTEND:20120312T143000Z
UID:TALK36874@talks.cam.ac.uk
CONTACT:Mustapha Amrani
DESCRIPTION:2012/03/12
LOCATION:Seminar Room 1\, Newton Institute
END:VEVENT
END:VCALENDAR
