BEGIN:VCALENDAR
VERSION:2.0
PRODID:-//Talks.cam//talks.cam.ac.uk//
X-WR-CALNAME:Talks.cam
BEGIN:VEVENT
SUMMARY:Title to be confirmed - Prof. Vladimir Bulovic Research Laboratory
  of Electronics\, MIT\, USA
DTSTART:20120417T133000Z
DTEND:20120417T143000Z
UID:TALK37220@talks.cam.ac.uk
CONTACT:Jenny Clark
DESCRIPTION:Abstract not available
LOCATION:Kapitza Building Seminar Room\, Cavendish Laboratory\, Department
  of Physics
END:VEVENT
END:VCALENDAR
