BEGIN:VCALENDAR
VERSION:2.0
PRODID:-//Talks.cam//talks.cam.ac.uk//
X-WR-CALNAME:Talks.cam
BEGIN:VEVENT
SUMMARY:Multi-key Homomorphic Encryption and Applications - Vaikuntanathan
 \, V (Toronto)
DTSTART:20120410T103000Z
DTEND:20120410T113000Z
UID:TALK37381@talks.cam.ac.uk
CONTACT:Mustapha Amrani
DESCRIPTION:I will present a new notion of fully homomorphic encryption (F
 HE) called multi-key FHE that permits computation on data encrypted under 
 multiple unrelated keys\, a new construction of multi-key FHE based on the
  NTRU encryption scheme\, and a new application of multi-key FHE to the pr
 oblem of constructing minimally interactive cloud-assisted secure multi-pa
 rty computation protocols.  Joint Work with Adriana Lopez-Alt (NYU) and Er
 an Tromer (Tel-Aviv U).\n
LOCATION:Seminar Room 1\, Newton Institute
END:VEVENT
END:VCALENDAR
