BEGIN:VCALENDAR
VERSION:2.0
PRODID:-//Talks.cam//talks.cam.ac.uk//
X-WR-CALNAME:Talks.cam
BEGIN:VEVENT
SUMMARY:TBC - Professor Alfred Goldberg\, Dept of Cell Biology\, Harvard M
 edical School
DTSTART:20120620T160000Z
DTEND:20120620T170000Z
UID:TALK37395@talks.cam.ac.uk
CONTACT:Sylvie Robinson
DESCRIPTION:Abstract not available
LOCATION:CRUK Cambridge Research Institute - LiKa Shing Centre - Robinson 
 Way - Cambridge - CB2 0RE
END:VEVENT
END:VCALENDAR
