BEGIN:VCALENDAR
VERSION:2.0
PRODID:-//Talks.cam//talks.cam.ac.uk//
X-WR-CALNAME:Talks.cam
BEGIN:VEVENT
SUMMARY:No Staff Round Presentation - 11th April - Speaker to be confirmed
DTSTART:20120411T120000Z
DTEND:20120411T130000Z
UID:TALK37416@talks.cam.ac.uk
CONTACT:Faith Rawley
DESCRIPTION:No Staff Round Presentation on Wednesday 11th of April.  The p
 rogramme will recommence on Wednesday 18th of April.
LOCATION:William Harvey Lecture Theatre
END:VEVENT
END:VCALENDAR
