BEGIN:VCALENDAR
VERSION:2.0
PRODID:-//Talks.cam//talks.cam.ac.uk//
X-WR-CALNAME:Talks.cam
BEGIN:VEVENT
SUMMARY:Strain localization in granular materials - Stephen Walley\, SMF G
 roup\, Cavendish Laboratory
DTSTART:20120517T150000Z
DTEND:20120517T160000Z
UID:TALK37579@talks.cam.ac.uk
CONTACT:Stephen Walley
DESCRIPTION:Strain localization is believed to be one mechanism for initia
 tion of explosives. However\, this mode of deformation is not as well unde
 rstood for granular as for fully dense materials. This talk will review th
 e experimental data that has been obtained for this phenomenon.
LOCATION:Mott Seminar Room\, Cavendish Laboratory\, Department of Physics
END:VEVENT
END:VCALENDAR
