BEGIN:VCALENDAR
VERSION:2.0
PRODID:-//Talks.cam//talks.cam.ac.uk//
X-WR-CALNAME:Talks.cam
BEGIN:VEVENT
SUMMARY:An overview of Bayesian filtering and its applications to neuronal
  data - Hamid Mohseni (post-doc at Oxford Centre for Human Brain Activity)
DTSTART:20120606T113000Z
DTEND:20120606T123000Z
UID:TALK37614@talks.cam.ac.uk
CONTACT:Mandy Carter
DESCRIPTION:Abstract not available
LOCATION:Lecture Theatre\, MRC Cognition and Brain Sciences Unit\, Chaucer
  Road
END:VEVENT
END:VCALENDAR
