BEGIN:VCALENDAR
VERSION:2.0
PRODID:-//Talks.cam//talks.cam.ac.uk//
X-WR-CALNAME:Talks.cam
BEGIN:VEVENT
SUMMARY:'Buttons from Kharkiv: What We Don't Remember about the Ukrainian 
 Katyn' - Oleksandr Zinchenko
DTSTART:20120425T160000Z
DTEND:20120425T180000Z
UID:TALK37819@talks.cam.ac.uk
CONTACT:Dr R E Finnin
DESCRIPTION:On Wednesday\, 25 April\, Cambridge Ukrainian Studies (in part
 nership with the project 'Memory at War: Cultural Dynamics in Poland\, Rus
 sia and Ukraine') presents a public lecture by Oleksandr Zinchenko\, autho
 r of 'The Hour of the Parrot: The Ukrainian Pages of Katyn' (2011). In his
  presentation Zinchenko will consider the little-known Kharkiv dimensions 
 of Katyn\, the Soviet massacre of over 21\,000 Polish prisoners in 1940.
LOCATION:CRASSH and CRP\, Alison Richard Building\, West Road\, University
  of Cambridge
END:VEVENT
END:VCALENDAR
