BEGIN:VCALENDAR
VERSION:2.0
PRODID:-//Talks.cam//talks.cam.ac.uk//
X-WR-CALNAME:Talks.cam
BEGIN:VEVENT
SUMMARY:CMB non-Gaussianities from isocurvature modes - David Langlois\, A
 PC\, Paris
DTSTART:20120518T123000Z
DTEND:20120518T133000Z
UID:TALK37911@talks.cam.ac.uk
CONTACT:Xingang Chen
DESCRIPTION:Note special time: 1:30-2:30pm
LOCATION:Pavilion B Potter Room (B1.19)
END:VEVENT
END:VCALENDAR
