BEGIN:VCALENDAR
VERSION:2.0
PRODID:-//Talks.cam//talks.cam.ac.uk//
X-WR-CALNAME:Talks.cam
BEGIN:VEVENT
SUMMARY:Leading or Following? Cambridge and Equalities Law - Speaker to be
  confirmed
DTSTART:20120516T120000Z
DTEND:20120516T130000Z
UID:TALK37981@talks.cam.ac.uk
CONTACT:Equality & Diversity
DESCRIPTION:A look at how the University is responding to legal obligation
 s on Equalities Assurance Assessments (EAAs) and its Equality Objectives \
 n\nTo book at place visit http://www.eventbrite.com/event/3448848599
LOCATION:The University Centre\, Granta Place\, Cambridge
END:VEVENT
END:VCALENDAR
