BEGIN:VCALENDAR
VERSION:2.0
PRODID:-//Talks.cam//talks.cam.ac.uk//
X-WR-CALNAME:Talks.cam
BEGIN:VEVENT
SUMMARY:A Conversation with Adam Thorpe - Adam Thorpe
DTSTART:20120525T163000Z
DTEND:20120525T180000Z
UID:TALK38124@talks.cam.ac.uk
CONTACT:Ruth Rushworth
DESCRIPTION:Adam Thorpe will come to Cambridge to discuss his latest novel
  Flight. He will read from his work and there will also be the opportunity
  to purchase a signed copy (£16.99).\n
LOCATION:Keynes Hall\, King's College
END:VEVENT
END:VCALENDAR
