BEGIN:VCALENDAR
VERSION:2.0
PRODID:-//Talks.cam//talks.cam.ac.uk//
X-WR-CALNAME:Talks.cam
BEGIN:VEVENT
SUMMARY:This Project Will Self-Destruct in Five Years - Speaker to be conf
 irmed
DTSTART:20120608T090000Z
DTEND:20120608T153000Z
UID:TALK38138@talks.cam.ac.uk
CONTACT:Ruth Rushworth
DESCRIPTION:The beginning\, middle and end of a digital humanities project
 \, and how to keep it alive\n\nA Cambridge Digital Humanities for Early Ca
 reer Researchers Workshop\n\nThe Cambridge Digital Humanities Network for 
 Early Career researchers team is holding a workshop for postgraduates and 
 early career researchers engaged in\, or looking into\, digital humanities
 \, including the arts and social sciences. If you are an early career digi
 tal humanities researcher at Cambridge and you wish to present your projec
 t in this workshop\, please click here: http://www.crassh.cam.ac.uk/events
 /2034/\n\nThe event is free to attend but registration is required online 
 http://www.crassh.cam.ac.uk/events/2034/\n\nConfirmed speakers\n\nDr Stewa
 rt Brookes (DigiPal)\nDr Charles Crowther (Vindolanda project)\nDr James B
 rown (Cultures of Knowledge)\nChris Martin (CARET\, University of Cambridg
 e)\nDr Alison Pearn (Darwin Correspondence project\, University of Cambrid
 ge)\nProfessor Andrew Prescott (King’s College London)\nProfessor Alison
  Sinclair (Wrongdoing in Spain project\, University of Cambridge)\n\n& lig
 htning presentations by Cambridge Early Career Researchers\n
LOCATION:CRASSH\, Alison Richard Building\, 7 West Road\, Cambridge\, CB3 
 9DT
END:VEVENT
END:VCALENDAR
