BEGIN:VCALENDAR
VERSION:2.0
PRODID:-//Talks.cam//talks.cam.ac.uk//
X-WR-CALNAME:Talks.cam
BEGIN:VEVENT
SUMMARY:CFT probes of bulk geometry - Hubeny\, V (Durham University)
DTSTART:20120524T103000Z
DTEND:20120524T113000Z
UID:TALK38314@talks.cam.ac.uk
CONTACT:Mustapha Amrani
DESCRIPTION:2012/05/24
LOCATION:Seminar Room 1\, Newton Institute
END:VEVENT
END:VCALENDAR
