BEGIN:VCALENDAR
VERSION:2.0
PRODID:-//Talks.cam//talks.cam.ac.uk//
X-WR-CALNAME:Talks.cam
BEGIN:VEVENT
SUMMARY:“Accelerated vaccine and immunotherapy discovery and development
 : case studies in infectious diseases and cancer" - Dr Mark Poznansky\, Ma
 ssachusetts General Hospital. Hosted by Andrew Lever
DTSTART:20120618T150000Z
DTEND:20120618T160000Z
UID:TALK38400@talks.cam.ac.uk
CONTACT:Catie Heathfield
DESCRIPTION:Abstract not available
LOCATION:Sackler Lecture Theatre (Level 7)\, Cambridge Institute for Medic
 al Research
END:VEVENT
END:VCALENDAR
