BEGIN:VCALENDAR
VERSION:2.0
PRODID:-//Talks.cam//talks.cam.ac.uk//
X-WR-CALNAME:Talks.cam
BEGIN:VEVENT
SUMMARY:"Human mesenchymal precursors - Transplantation and mechanisms of 
 action in spinal cord injury" - Dr Giles W Plant\, Stanford Institute for 
 Neuro-Innovation and Translational Neurosciences (SINTN)\,Stanford Univers
 ity\, Stanford\, CA\, USA
DTSTART:20120614T110000Z
DTEND:20120614T120000Z
UID:TALK38495@talks.cam.ac.uk
CONTACT:Shannon Tinley-Browne
DESCRIPTION:Abstract not available
LOCATION:Brain Repair Centre\, Forvie Site\, Robinson Way
END:VEVENT
END:VCALENDAR
