BEGIN:VCALENDAR
VERSION:2.0
PRODID:-//Talks.cam//talks.cam.ac.uk//
X-WR-CALNAME:Talks.cam
BEGIN:VEVENT
SUMMARY:Calabi-Yau and Non-Calabi-Yau backgrounds for heterotic phenomenol
 ogy - Gray\, J (Ludwig-Maximilians-Universitt Mnchen)
DTSTART:20120627T130000Z
DTEND:20120627T133500Z
UID:TALK38707@talks.cam.ac.uk
CONTACT:Mustapha Amrani
DESCRIPTION:I will discuss various aspects of model building and moduli st
 abilization in heterotic string theory. This will include building standar
 d models from pure abelian gauge field configurations\, and investigating 
 compactifications on manifolds admitting SU(3) structures with intrinsic t
 orsion.\n\n
LOCATION:Seminar Room 1\, Newton Institute
END:VEVENT
END:VCALENDAR
