BEGIN:VCALENDAR
VERSION:2.0
PRODID:-//Talks.cam//talks.cam.ac.uk//
X-WR-CALNAME:Talks.cam
BEGIN:VEVENT
SUMMARY:Careers Panel  - Applying for jobs in academia and industry - Byro
 n Cook - Microsoft Research\; Ann Copestake - Computer Laboratory\; Anna K
 orhonen -Computer Laboratory\; Kayoko Yanagisawa - Toshiba
DTSTART:20121129T130000Z
DTEND:20121129T140000Z
UID:TALK38748@talks.cam.ac.uk
CONTACT:Mateja Jamnik
DESCRIPTION:Our panel of speakers will give first-hand accounts of their e
 xperience of applying for jobs in academia and in industry as well as coll
 ege and other fellowships\, founding your own start-ups\, and provide info
 rmation and advice to perspective applicants on what opportunities are ava
 ilable at various stages of career development.\n\nOur speakers on the pan
 el are:\n\n* Byron Cook\, Microsoft Research\n* Ann Copestake\, Computer L
 aboratory\n* Anna Korhonen\, Computer Laboratory\n* Kayoko Yanagisawa\, To
 shiba
LOCATION:Computer Laboratory\, William Gates Building\, Room FW26
END:VEVENT
END:VCALENDAR
