BEGIN:VCALENDAR
VERSION:2.0
PRODID:-//Talks.cam//talks.cam.ac.uk//
X-WR-CALNAME:Talks.cam
BEGIN:VEVENT
SUMMARY:The SUSY breaking scale and F-theory unification - Ibanez\, L (Uni
 versidad Autonoma de Madrid)
DTSTART:20120629T080000Z
DTEND:20120629T083500Z
UID:TALK38780@talks.cam.ac.uk
CONTACT:Mustapha Amrani
DESCRIPTION:2012/06/29
LOCATION:Seminar Room 1\, Newton Institute
END:VEVENT
END:VCALENDAR
