BEGIN:VCALENDAR
VERSION:2.0
PRODID:-//Talks.cam//talks.cam.ac.uk//
X-WR-CALNAME:Talks.cam
BEGIN:VEVENT
SUMMARY:Michaelmas Term Lecture 2 - Henry 'Birdie' Bowers - Captain Scott'
 s Marvel by Anne Strathie 
DTSTART:20121027T183000Z
DTEND:20121026T230000Z
UID:TALK38789@talks.cam.ac.uk
CONTACT:Ellen Bazeley-White
DESCRIPTION: Anne Strathie will speak on her new biography of Henry ‘Bir
 die’ Bowers
LOCATION:SPRI Lecture Theatre\, Lensfield Road
END:VEVENT
END:VCALENDAR
