BEGIN:VCALENDAR
VERSION:2.0
PRODID:-//Talks.cam//talks.cam.ac.uk//
X-WR-CALNAME:Talks.cam
BEGIN:VEVENT
SUMMARY:Data Modelling With Neural Networks (II):  Content-Addressable Mem
 ories And  State-Of-The-Art Error-Correcting Codes - David MacKay (Cavendi
 sh Laboratory)
DTSTART:20120716T133000Z
DTEND:20120716T153000Z
UID:TALK39005@talks.cam.ac.uk
CONTACT:Emli-Mari Nel
DESCRIPTION:Lecture 16 of a lecture series on Information Theory\, Pattern
  Recognition and Neural Networks: http://www.inference.phy.cam.ac.uk/itprn
 n_lectures/\n\nTopics will include:\n* Data Modelling With Neural Networks
   \n* Content-Addressable Memories And \n* State-Of-The-Art Error-Correcti
 ng Codes\n\nSchedule:\n\n* One (90 minute) lecture or two (45-60 minute) l
 ectures.\n\n* In the case of two lectures\, there will be a 10-15 minute b
 reak between lectures.\n\nAll are welcome\, and encouraged to ask many que
 stions.
LOCATION:Pippard Lecture Theatre\, Cavendish Laboratory
END:VEVENT
END:VCALENDAR
