BEGIN:VCALENDAR
VERSION:2.0
PRODID:-//Talks.cam//talks.cam.ac.uk//
X-WR-CALNAME:Talks.cam
BEGIN:VEVENT
SUMMARY:From babbling brooks to boiling kettles - Alan Walton\, Cavendish 
 Laboratory
DTSTART:20121115T160000Z
DTEND:20121115T170000Z
UID:TALK39105@talks.cam.ac.uk
CONTACT:Stephen Walley
DESCRIPTION:We are all familiar with the sounds emitted by rivers\, waterf
 alls\, dripping taps and boiling kettles.  Osborne Reynolds and William Br
 agg are among the late nineteenth and early twentieth century physicists w
 ho attempted to explain the origins of these sounds (but only with limited
  success). This seminar will describe the currently-accepted explanation o
 f these sounds. It will also describe the reverse process where sound is f
 ed into a liquid\; at large insonating sound pressures light is emitted (s
 onoluminescence). Live and videoed demonstrations will be included
LOCATION:Mott Seminar Room\, Cavendish Laboratory\, Department of Physics
END:VEVENT
END:VCALENDAR
