BEGIN:VCALENDAR
VERSION:2.0
PRODID:-//Talks.cam//talks.cam.ac.uk//
X-WR-CALNAME:Talks.cam
BEGIN:VEVENT
SUMMARY:Reactive metal powders - Chris Braithwaite\, SMF Group\, Cavendish
  Laboratory
DTSTART:20121108T160000Z
DTEND:20121108T170000Z
UID:TALK39106@talks.cam.ac.uk
CONTACT:Stephen Walley
DESCRIPTION:In recent years there has been much interest in the potential 
 use of reactive metal powders as novel energetic materials. This has resul
 ted in two research projects undertaken in the fracture and shock physics 
 group. The colloquium will give a brief overview of the area of study and 
 the group’s contribution to it.
LOCATION:Mott Seminar Room\, Cavendish Laboratory\, Department of Physics
END:VEVENT
END:VCALENDAR
