BEGIN:VCALENDAR
VERSION:2.0
PRODID:-//Talks.cam//talks.cam.ac.uk//
X-WR-CALNAME:Talks.cam
BEGIN:VEVENT
SUMMARY:"The utility of staging in canine mast cell tumours" - James Warla
 nd (BSkelly)
DTSTART:20121026T074500Z
DTEND:20121026T090000Z
UID:TALK39345@talks.cam.ac.uk
CONTACT:Denise Leeks
DESCRIPTION:Abstract not available
LOCATION:Lecture Theatre 2
END:VEVENT
END:VCALENDAR
