BEGIN:VCALENDAR
VERSION:2.0
PRODID:-//Talks.cam//talks.cam.ac.uk//
X-WR-CALNAME:Talks.cam
BEGIN:VEVENT
SUMMARY:No talk - part 3 poster day - No talk - part 3 poster day
DTSTART:20121128T163000Z
DTEND:20121128T173000Z
UID:TALK39428@talks.cam.ac.uk
CONTACT:Alex Copley
DESCRIPTION:Abstract not available
LOCATION:Marine/Wolfson Building lecture hall
END:VEVENT
END:VCALENDAR
