BEGIN:VCALENDAR
VERSION:2.0
PRODID:-//Talks.cam//talks.cam.ac.uk//
X-WR-CALNAME:Talks.cam
BEGIN:VEVENT
SUMMARY:Selection of IgG properties for therapeutic applications - Dr Mike
  Clark\, Department of Pathology\, Cambridge
DTSTART:20121003T113000Z
DTEND:20121003T123000Z
UID:TALK39760@talks.cam.ac.uk
CONTACT:Sue Griffin
DESCRIPTION:This talk will give the background and an overview to work on 
 the selection and engineering of IgG Fc regions for therapeutic applicatio
 ns. \n\nExamples will include selection of Fc regions for the commercially
  developed antibodies alemtuzumab (CD52)\, otelixizumab (CD3) and tanezuma
 b (NGF)\, as well as antibodies to the red cell antigen RhD\, and the plat
 elet alloantigen HPA-1a. \n
LOCATION:Lecture Theatre\, Department of Pathology\, Tennis Court Road
END:VEVENT
END:VCALENDAR
