BEGIN:VCALENDAR
VERSION:2.0
PRODID:-//Talks.cam//talks.cam.ac.uk//
X-WR-CALNAME:Talks.cam
BEGIN:VEVENT
SUMMARY:The Cambridge Phenomenon - Charles Cotton
DTSTART:20121030T183000Z
DTEND:20121030T203000Z
UID:TALK39774@talks.cam.ac.uk
CONTACT:Publicity Officer\, IMechE Beds & Cambs area
DESCRIPTION:Charles Cotton has been involved in Cambridge technology compa
 nies since the days of Sinclair Research\, and with Virata saw the first i
 nvestment by Silicon Valley VCs in a UK company and a NASDAQ listing that 
 peaked at over $5 billion. His newest venture\, Cambridge Phenomenon Ltd\,
  takes an entrepreneurial approach to celebrating and promoting the Cambri
 dge technology cluster.
LOCATION:Institute for Manufacturing\, Alan Reece Building\, 17 Charles Ba
 bbage Road\, Cambridge CB3 0FS
END:VEVENT
END:VCALENDAR
