BEGIN:VCALENDAR
VERSION:2.0
PRODID:-//Talks.cam//talks.cam.ac.uk//
X-WR-CALNAME:Talks.cam
BEGIN:VEVENT
SUMMARY:C++ (part 2) - Tim Love (University of Cambridge)
DTSTART:20121024T140000Z
DTEND:20121024T150000Z
UID:TALK39871@talks.cam.ac.uk
CONTACT:Tim Love
DESCRIPTION:The 2nd of 4 talks in a C++ course\, looking mostly at classes
 . For details\, see the "notes":http://www-h.eng.cam.ac.uk/help/tpl/talks/
 C++course/
LOCATION:LR3\, Engineering\, Department of
END:VEVENT
END:VCALENDAR
