BEGIN:VCALENDAR
VERSION:2.0
PRODID:-//Talks.cam//talks.cam.ac.uk//
X-WR-CALNAME:Talks.cam
BEGIN:VEVENT
SUMMARY:Sculpture: an illustrated talk - Helaine Blumenfeld
DTSTART:20121017T121500Z
DTEND:20121017T130000Z
UID:TALK39878@talks.cam.ac.uk
DESCRIPTION:Join Helaine Blumenfeld for a talk discussing her sculpture an
 d practice in Seminar Room 3 of the Fitzwilliam Museum.\n\nPlease arrive e
 arly as space may be limited.
LOCATION:Fitzwilliam Museum\, Trumpington Street\, Cambridge\, CB2 1RB
END:VEVENT
END:VCALENDAR
