BEGIN:VCALENDAR
VERSION:2.0
PRODID:-//Talks.cam//talks.cam.ac.uk//
X-WR-CALNAME:Talks.cam
BEGIN:VEVENT
SUMMARY:John Donne's Metaphysical Portrait - Spike Bucklow
DTSTART:20121101T150000Z
DTEND:20121101T160000Z
UID:TALK39887@talks.cam.ac.uk
DESCRIPTION:Join Spike Bucklow\,Senior Research Scientist at the Hamilton 
 Kerr Institute\, exploring a metaphysical portrait of John Donne.
LOCATION:Fitzwilliam Museum\, Trumpington Street\, Cambridge\, CB2 1RB
END:VEVENT
END:VCALENDAR
