BEGIN:VCALENDAR
VERSION:2.0
PRODID:-//Talks.cam//talks.cam.ac.uk//
X-WR-CALNAME:Talks.cam
BEGIN:VEVENT
SUMMARY:The business of science\; building therapeutic drugs based on prot
 eins - Winter\, G (Trinity College\, Cambridge)
DTSTART:20120918T161500Z
DTEND:20120918T170000Z
UID:TALK39973@talks.cam.ac.uk
CONTACT:Mustapha Amrani
DESCRIPTION:2012/09/18
LOCATION:Seminar Room 1\, Newton Institute
END:VEVENT
END:VCALENDAR
