BEGIN:VCALENDAR
VERSION:2.0
PRODID:-//Talks.cam//talks.cam.ac.uk//
X-WR-CALNAME:Talks.cam
BEGIN:VEVENT
SUMMARY:Numeracy and the Media: is it a Lost Cause? - Professor D.J. Spieg
 elhalter ( Statistical Laboratory\, University of Cambridge)
DTSTART:20121015T193000Z
DTEND:20121015T203000Z
UID:TALK40128@talks.cam.ac.uk
CONTACT:Mary Fortune
DESCRIPTION:I shall look at the portrayal of numbers in the news\, with pa
 rticular attention to risk stories of the 'cats cause cancer' variety\, an
 d the use of ghastly statistical graphics.  After (with luck) getting some
  cheap laughs\, I shall consider whether things are getting better or wors
 e\, and make a few tentative suggestions for how we all might help.
LOCATION:Winstanley Lecture Theatre\, Trinity College
END:VEVENT
END:VCALENDAR
