BEGIN:VCALENDAR
VERSION:2.0
PRODID:-//Talks.cam//talks.cam.ac.uk//
X-WR-CALNAME:Talks.cam
BEGIN:VEVENT
SUMMARY:Nanostructured solar cells - Prof. Lukas Schmidt-Mende\, Ludwig-Ma
 ximilians-Universität München
DTSTART:20120926T133000Z
DTEND:20120926T143000Z
UID:TALK40131@talks.cam.ac.uk
CONTACT:Dr. Girish Lakhwani
DESCRIPTION:The nano-morphology in organic and hybrid solar cells has majo
 r influence on the device performance.  However\, currently most of these 
 solar cells are fabricated via spin-coating\, which gives a quite random d
 onor-acceptor network. Even though some influence on this network-formatio
 n can be achieved by tuning the spin-coating parameters\, full control doe
 s not seem to be possible.\n\nOur group therefore focus on fabrication of 
 nanostructures\, which allow fabricating a donor acceptor network with the
  desired morphology. In this presentation recent projects from our group c
 oncerning the control of the nano-architecture of organic and hybrid soalr
  cells will be presented.
LOCATION:Kapitza Building Seminar Room\, Cavendish Laboratory\, Department
  of Physics
END:VEVENT
END:VCALENDAR
