BEGIN:VCALENDAR
VERSION:2.0
PRODID:-//Talks.cam//talks.cam.ac.uk//
X-WR-CALNAME:Talks.cam
BEGIN:VEVENT
SUMMARY:The Larmor Lecture  - Professor Mike Edmunds
DTSTART:20121008T163000Z
DTEND:20121008T180000Z
UID:TALK40157@talks.cam.ac.uk
CONTACT:Dr Nigel Bennee
DESCRIPTION:This lecture is held in conjunction with the Cambridge Philoso
 phical Society - see their entry
LOCATION:Bristol Myers-Squibb lecture theatre
END:VEVENT
END:VCALENDAR
