BEGIN:VCALENDAR
VERSION:2.0
PRODID:-//Talks.cam//talks.cam.ac.uk//
X-WR-CALNAME:Talks.cam
BEGIN:VEVENT
SUMMARY:A test - Tim Love (University of Cambridge)
DTSTART:20121008T100000Z
DTEND:20121008T110000Z
UID:TALK40289@talks.cam.ac.uk
CONTACT:Tim Love
DESCRIPTION:A test  LJC talk
LOCATION:Venue to be confirmed
END:VEVENT
END:VCALENDAR
