BEGIN:VCALENDAR
VERSION:2.0
PRODID:-//Talks.cam//talks.cam.ac.uk//
X-WR-CALNAME:Talks.cam
BEGIN:VEVENT
SUMMARY:Introducing new methods for modelling energy and emissions from th
 e English residential sector: combining energy efficiency\, behaviour and 
 environmental variables to improve long term projections - Scott Kelly\, U
 niversity of Cambrdige
DTSTART:20121119T123000Z
DTEND:20121119T140000Z
UID:TALK40611@talks.cam.ac.uk
CONTACT:Andrew Pruitt
DESCRIPTION:Abstract not available
LOCATION:Judge Business School\, Castle Teaching Room
END:VEVENT
END:VCALENDAR
