BEGIN:VCALENDAR
VERSION:2.0
PRODID:-//Talks.cam//talks.cam.ac.uk//
X-WR-CALNAME:Talks.cam
BEGIN:VEVENT
SUMMARY:Dilemmas of the New Interventionism: Foreign Policy-Making and Civ
 il Society in Europe - Christopher Hill\, POLIS
DTSTART:20121024T160000Z
DTEND:20121024T173000Z
UID:TALK40823@talks.cam.ac.uk
CONTACT:25317
DESCRIPTION:Abstract not available
LOCATION:Alison Richards Building\, 7 West Road (Sidgwick Site)\, Room: S2
END:VEVENT
END:VCALENDAR
