BEGIN:VCALENDAR
VERSION:2.0
PRODID:-//Talks.cam//talks.cam.ac.uk//
X-WR-CALNAME:Talks.cam
BEGIN:VEVENT
SUMMARY:Food for Thought: ‘Effects of Ocean Acidification on Marine Orga
 nisms’ -  Emma Cross\, PhD Student\, Dept. of Earth Science\, British An
 tarctic Survey.
DTSTART:20121128T130000Z
DTEND:20121128T140000Z
UID:TALK41052@talks.cam.ac.uk
CONTACT:30411
DESCRIPTION:*‘Effects of Ocean Acidification on Marine Organisms’* \n\
 n- Emma Cross\, PhD Student\, Dept. of Earth Science\, British Antarctic S
 urvey.\n\n_The talk will start at about 1:10 so don’t worry if you’re 
 a little late\, equally if you need to slip off early thats no problem. Br
 ing your lunch and munch as you listen\, then we’ll have a relaxed discu
 ssion/Q&A session._
LOCATION:Wordsworth Room\, St John's College\, First Court (on left hand s
 ide)
END:VEVENT
END:VCALENDAR
