BEGIN:VCALENDAR
VERSION:2.0
PRODID:-//Talks.cam//talks.cam.ac.uk//
X-WR-CALNAME:Talks.cam
BEGIN:VEVENT
SUMMARY:First-year presentations -  Vaiva Imbrasaite\, Alistair Stead\, He
 nrik Lieng
DTSTART:20121101T111500Z
DTEND:20121101T121500Z
UID:TALK41236@talks.cam.ac.uk
CONTACT:Vaiva Imbrasaite
DESCRIPTION:The second-year students of the group (Vaiva\, Alistair and He
 nrik) will present the work they did over the first year.
LOCATION:Rainbow Room (SS03)\, Computer Laboratory
END:VEVENT
END:VCALENDAR
