BEGIN:VCALENDAR
VERSION:2.0
PRODID:-//Talks.cam//talks.cam.ac.uk//
X-WR-CALNAME:Talks.cam
BEGIN:VEVENT
SUMMARY:Hunting surface ruptures for the Mw 8.1 1934 Bihar Nepal earthquak
 e - Magali Rizza\, EO Singapore/Cambridge
DTSTART:20130306T163000Z
DTEND:20130306T173000Z
UID:TALK41498@talks.cam.ac.uk
CONTACT:Alex Copley
DESCRIPTION:Abstract not available
LOCATION:Marine/Wolfson Building lecture hall
END:VEVENT
END:VCALENDAR
