BEGIN:VCALENDAR
VERSION:2.0
PRODID:-//Talks.cam//talks.cam.ac.uk//
X-WR-CALNAME:Talks.cam
BEGIN:VEVENT
SUMMARY:A day in the life of a patent attorney - John Addiss\, Mewburn Ell
 is LLP
DTSTART:20130307T160000Z
DTEND:20130307T170000Z
UID:TALK41705@talks.cam.ac.uk
CONTACT:Stephen Walley
DESCRIPTION:This talk aims to summarise the role of a patent attorney\, in
 cluding what a patent attorney does day to day.  The talk will also discus
 s working as a patent attorney as a career\, including why you might want 
 to become a patent attorney and what it takes in practice to do so.  The t
 alk will also include some discussion of the role of patents in academic r
 esearch.
LOCATION:Mott Seminar Room\, Cavendish Laboratory
END:VEVENT
END:VCALENDAR
