BEGIN:VCALENDAR
VERSION:2.0
PRODID:-//Talks.cam//talks.cam.ac.uk//
X-WR-CALNAME:Talks.cam
BEGIN:VEVENT
SUMMARY:Analytic and topological aspects of Menger curvatures for curves a
 nd submanifolds - von der Mosel\, H (RWTH Aachen University)
DTSTART:20121205T090000Z
DTEND:20121205T094000Z
UID:TALK41868@talks.cam.ac.uk
CONTACT:Mustapha Amrani
DESCRIPTION:We discuss various types of geometric curvature energies based
  on the concept of Menger curvature. These energies exhibit self-avoidance
  and regularizing effects on curves and submanifolds\, and they control th
 eir topology.\n\n
LOCATION:Seminar Room 1\, Newton Institute
END:VEVENT
END:VCALENDAR
